BEGIN:VCALENDAR
VERSION:2.0
PRODID:-//RevitalizeDIP - ECPv6.15.20//NONSGML v1.0//EN
CALSCALE:GREGORIAN
METHOD:PUBLISH
X-WR-CALNAME:RevitalizeDIP
X-ORIGINAL-URL:https://revitalizedip.org
X-WR-CALDESC:Events for RevitalizeDIP
REFRESH-INTERVAL;VALUE=DURATION:PT1H
X-Robots-Tag:noindex
X-PUBLISHED-TTL:PT1H
BEGIN:VTIMEZONE
TZID:America/Chicago
BEGIN:DAYLIGHT
TZOFFSETFROM:-0600
TZOFFSETTO:-0500
TZNAME:CDT
DTSTART:20230312T080000
END:DAYLIGHT
BEGIN:STANDARD
TZOFFSETFROM:-0500
TZOFFSETTO:-0600
TZNAME:CST
DTSTART:20231105T070000
END:STANDARD
BEGIN:DAYLIGHT
TZOFFSETFROM:-0600
TZOFFSETTO:-0500
TZNAME:CDT
DTSTART:20240310T080000
END:DAYLIGHT
BEGIN:STANDARD
TZOFFSETFROM:-0500
TZOFFSETTO:-0600
TZNAME:CST
DTSTART:20241103T070000
END:STANDARD
BEGIN:DAYLIGHT
TZOFFSETFROM:-0600
TZOFFSETTO:-0500
TZNAME:CDT
DTSTART:20250309T080000
END:DAYLIGHT
BEGIN:STANDARD
TZOFFSETFROM:-0500
TZOFFSETTO:-0600
TZNAME:CST
DTSTART:20251102T070000
END:STANDARD
END:VTIMEZONE
BEGIN:VEVENT
DTSTART;VALUE=DATE:20240123
DTEND;VALUE=DATE:20240124
DTSTAMP:20260423T191335
CREATED:20240120T190059Z
LAST-MODIFIED:20240120T190441Z
UID:493-1705968000-1706054399@revitalizedip.org
SUMMARY:Residential Trash Pickup on the DIP Peninsula is Every Other Tuesday
DESCRIPTION:South Mobile Pickup Dates for 2024 \nTuesdays\nJanuary 9\, 23\nFebruary 6\, 20\nMarch 5\, 19\nApril 2\, 16\, 30\nMay 1\, 15\, 29\nJune 11\, 25\nJuly 9\, 23\nAugust 6\, 20\nSeptember 3\, 17\nOctober 1\, 15\, 29\nNovember 12\, 26\nDecember 10 \nCity ordinance prohibits: \nPlacement of trash at curbside more than 48 hours prior to the scheduled day of collection. Fine and court costs: $532.00.\nPlacement of trash on sidewalks\, medians\, or vacant lots.\nBlowing or sweeping of grass or leaves into gutters or storm drains.\nResidential trash is defined as limbs\, old furniture\, appliances\, and junk. Yard trimmings and grass clippings should be composed\, used as mulch or bagged for collection. \nEach residence is limited to approximately two cubic yards (3 ft. x 3ft. X 6 ft.) or the equivalent of 15 bags every other week. Larger quantities can be taken by the resident to the trash fill or collected by the Public Works Department for a charge. \nTRASH COLLECTION RULES \nTRASH is defined as tree limbs\, tree/yard debris\, discarded furniture\, and bedding. \nA CONTRACTOR is defined as someone who performs services for pay\, such as a Building Contractor\, Tree Trim/Removal Service\, Electrician\, Plumber\, or privately owned or contracted Property Management Company. \nCONTRACTOR DEBRIS – If a resident hires a Contractor to do any kind of work\, it is the Contractor’s responsibility to collect and remove the debris\, and take it to the landfill. \nBagged leaves\, plants and grass clippings can be composted\, used as mulch\, or may be put at the curb\, as long as it does not exceed the 2 cubic yard limit. (3′ X 3′ X 6′ or 15-bag equivalent) The City will remove RESIDENTIAL trash that exceeds this limit for a charge\, pricing depends on the size of the pile. Call 208-5311 to place a work order requesting an estimate for piles over the limit. \nCITY ORDINANCE\nProhibits Household Chemicals\, Paint\, Stain\, Construction Debris\, Glass\, Sinks\, Bathtubs\, HVAC Units\, Sheetrock\, Insulation\, and Fencing to be mixed in trash piles. These are to be removed by the homeowner\, tenant or Contractor.\nProhibits cutting or blowing grass\, leaves and clippings into the streets\, gutters\, or storm drains. These must be composted\, used as mulch\, or raked and placed into garbage bags\, and set out with the trash pile\, or discarded by the Contractor. Anyone seen blowing yard clippings into the streets\, gutters or storm drains\, including private landscapers\, is subject to a $532 fine for Littering. Please pass this information on to your landscaper.\nProhibits placement of trash pile at the curb more than 48 hours in advance of regularly scheduled pickup day.\nPlacing the pile at the curb prior to this could result in a fine of $532.\nProhibits placement of trash in medians\, on vacant lots\, Doing so could result in a fine of $532 for Littering and/or Illegal Dumping.\nDO NOT PLACE ELECTRONICS\, APPLIANCES\, PAINT\, TIRES\, GLASS OR OTHER PROHIBITED ITEMS ON YOUR REGULAR TRASH PILE; THE ENTIRE PILE WILL NOT BE PICKED UP. Call 208-5311 and place a work order for an Electronics or Appliance pickup. Glass can be recycled or put in your household garbage can. WE WILL NOT PICK UP REFRIGERATORS\, FREEZERS\, AIR CONDITIONERS\, ETC.\, THAT CONTAIN HAZARDOUS MATERIAL SUCH AS FREON\, OIL\, GAS\, ETC. See Helpful Hints below for more information. \nHELPFUL HINTS\nPAINT DISPOSAL – Using QuikCrete (fast-setting concrete) is the fastest way to dry paint. Pour and mix equal parts of QuickCrete with the leftover paint in the can. Stir until fully mixed. Leave out to dry. Once it is dry\, put the lid back on the can\, and put in your brown garbage can for disposal. If you have sand or cat litter\, use the same procedure as QuickCrete. It will take a little longer to dry\, but the results are the same. \nTV’s and ELECTRONICS – If you prefer to RECYCLE your Flat Screen TV’s and Electronics instead of putting them out at the curb\, you can call United Cerebral Palsy at (251) 479-4900. Ask about home pick up for the elderly and disabled. CRT-type TV’s and older models may be taken to Best Buy for Recycling for a $25 recycling fee. Please call (251) 478-6678\, Press 3 for Geek Squad for more information.
URL:https://revitalizedip.org/event/residential-trash-pickup-on-the-dip-peninsula-is-every-other-tuesday/
CATEGORIES:Trash Pickup
ATTACH;FMTTYPE=image/png:https://revitalizedip.org/wp-content/uploads/2024/01/Public-Works-logo.png
END:VEVENT
END:VCALENDAR