BEGIN:VCALENDAR
VERSION:2.0
PRODID:-//RevitalizeDIP - ECPv6.15.20//NONSGML v1.0//EN
CALSCALE:GREGORIAN
METHOD:PUBLISH
X-WR-CALNAME:RevitalizeDIP
X-ORIGINAL-URL:https://revitalizedip.org
X-WR-CALDESC:Events for RevitalizeDIP
REFRESH-INTERVAL;VALUE=DURATION:PT1H
X-Robots-Tag:noindex
X-PUBLISHED-TTL:PT1H
BEGIN:VTIMEZONE
TZID:America/Chicago
BEGIN:DAYLIGHT
TZOFFSETFROM:-0600
TZOFFSETTO:-0500
TZNAME:CDT
DTSTART:20230312T080000
END:DAYLIGHT
BEGIN:STANDARD
TZOFFSETFROM:-0500
TZOFFSETTO:-0600
TZNAME:CST
DTSTART:20231105T070000
END:STANDARD
BEGIN:DAYLIGHT
TZOFFSETFROM:-0600
TZOFFSETTO:-0500
TZNAME:CDT
DTSTART:20240310T080000
END:DAYLIGHT
BEGIN:STANDARD
TZOFFSETFROM:-0500
TZOFFSETTO:-0600
TZNAME:CST
DTSTART:20241103T070000
END:STANDARD
BEGIN:DAYLIGHT
TZOFFSETFROM:-0600
TZOFFSETTO:-0500
TZNAME:CDT
DTSTART:20250309T080000
END:DAYLIGHT
BEGIN:STANDARD
TZOFFSETFROM:-0500
TZOFFSETTO:-0600
TZNAME:CST
DTSTART:20251102T070000
END:STANDARD
END:VTIMEZONE
BEGIN:VEVENT
DTSTART;VALUE=DATE:20240126
DTEND;VALUE=DATE:20240127
DTSTAMP:20260425T071911
CREATED:20240124T190054Z
LAST-MODIFIED:20240120T203411Z
UID:500-1706227200-1706313599@revitalizedip.org
SUMMARY:HOUSEHOLD GARBAGE PICKUP
DESCRIPTION:HOUSEHOLD GARBAGE PICKUP \nDIP Peninsula garbage pickups are every Friday
URL:https://revitalizedip.org/event/household-garbage-pickup/
CATEGORIES:Garbage Pickup
ATTACH;FMTTYPE=image/png:https://revitalizedip.org/wp-content/uploads/2024/01/Public-Works-logo.png
END:VEVENT
END:VCALENDAR